Package: Pi Version: 2.17.1 Maintainer: Hai Fang MaintainerEmail: hfang.shanghai at gmail.com git_url: https://git.bioconductor.org/packages/Pi git_branch: devel git_last_commit: 194ab62 git_last_commit_date: 2024-08-21 14:45:03 -0400 (Wed, 21 Aug 2024)