Package: PhyloProfile Version: 1.99.5 Command: E:\biocbuild\bbs-3.21-bioc\R\bin\R.exe CMD check --no-multiarch --install=check:PhyloProfile.install-out.txt --library=E:\biocbuild\bbs-3.21-bioc\R\library --no-vignettes --timings PhyloProfile_1.99.5.tar.gz StartedAt: 2025-02-21 04:22:59 -0500 (Fri, 21 Feb 2025) EndedAt: 2025-02-21 04:27:05 -0500 (Fri, 21 Feb 2025) EllapsedTime: 246.5 seconds RetCode: 0 Status: OK CheckDir: PhyloProfile.Rcheck Warnings: 0