Package: PhyloProfile Version: 1.99.5 Command: chmod a+r PhyloProfile -R && E:\biocbuild\bbs-3.21-bioc\R\bin\R.exe CMD build --keep-empty-dirs --no-resave-data PhyloProfile StartedAt: 2025-02-20 20:49:17 -0500 (Thu, 20 Feb 2025) EndedAt: 2025-02-20 20:50:43 -0500 (Thu, 20 Feb 2025) EllapsedTime: 85.9 seconds RetCode: 0 Status: OK PackageFile: PhyloProfile_1.99.5.tar.gz PackageFileSize: 1.195 MiB