Package: PhyloProfile Version: 1.99.5 Command: rm -rf PhyloProfile.buildbin-libdir && mkdir PhyloProfile.buildbin-libdir && E:\biocbuild\bbs-3.21-bioc\R\bin\R.exe CMD INSTALL --build --library=PhyloProfile.buildbin-libdir PhyloProfile_1.99.5.tar.gz StartedAt: 2025-02-21 08:45:58 -0500 (Fri, 21 Feb 2025) EndedAt: 2025-02-21 08:48:03 -0500 (Fri, 21 Feb 2025) EllapsedTime: 124.8 seconds RetCode: 0 Status: OK PackageFile: PhyloProfile_1.99.5.zip PackageFileSize: 1.294 MiB