Package: PhyloProfile Version: 1.99.5 Command: /home/biocbuild/bbs-3.21-bioc/R/bin/R CMD check --install=check:PhyloProfile.install-out.txt --library=/home/biocbuild/bbs-3.21-bioc/R/site-library --timings PhyloProfile_1.99.5.tar.gz StartedAt: 2025-02-21 00:39:46 -0500 (Fri, 21 Feb 2025) EndedAt: 2025-02-21 00:43:05 -0500 (Fri, 21 Feb 2025) EllapsedTime: 199.3 seconds RetCode: 0 Status: OK CheckDir: PhyloProfile.Rcheck Warnings: 0