Package: PhyloProfile Version: 1.99.5 Command: /home/biocbuild/bbs-3.21-bioc/R/bin/R CMD build --keep-empty-dirs --no-resave-data PhyloProfile StartedAt: 2025-02-20 18:42:34 -0500 (Thu, 20 Feb 2025) EndedAt: 2025-02-20 18:43:13 -0500 (Thu, 20 Feb 2025) EllapsedTime: 39.1 seconds RetCode: 0 Status: OK PackageFile: PhyloProfile_1.99.5.tar.gz PackageFileSize: 1.424 MiB