Package: PhyloProfile Version: 1.99.5 Command: /Library/Frameworks/R.framework/Resources/bin/R CMD check --install=check:PhyloProfile.install-out.txt --library=/Library/Frameworks/R.framework/Resources/library --no-vignettes --timings PhyloProfile_1.99.5.tar.gz StartedAt: 2025-02-20 22:21:55 -0500 (Thu, 20 Feb 2025) EndedAt: 2025-02-20 22:25:41 -0500 (Thu, 20 Feb 2025) EllapsedTime: 225.5 seconds RetCode: 0 Status: OK CheckDir: PhyloProfile.Rcheck Warnings: 0