Package: PhyloProfile Version: 1.99.5 Command: /Library/Frameworks/R.framework/Resources/bin/R CMD build --keep-empty-dirs --no-resave-data PhyloProfile StartedAt: 2025-02-20 17:47:52 -0500 (Thu, 20 Feb 2025) EndedAt: 2025-02-20 17:48:44 -0500 (Thu, 20 Feb 2025) EllapsedTime: 52.6 seconds RetCode: 0 Status: OK PackageFile: PhyloProfile_1.99.5.tar.gz PackageFileSize: 1.42 MiB