Package: PhyloProfile Version: 1.99.5 Command: rm -rf PhyloProfile.buildbin-libdir && mkdir PhyloProfile.buildbin-libdir && /Users/biocbuild/BBS/utils/build-universal.sh PhyloProfile_1.99.5.tar.gz /Library/Frameworks/R.framework/Resources/bin/R PhyloProfile.buildbin-libdir StartedAt: 2025-02-21 00:45:21 -0500 (Fri, 21 Feb 2025) EndedAt: 2025-02-21 00:45:58 -0500 (Fri, 21 Feb 2025) EllapsedTime: 37.0 seconds RetCode: 0 Status: OK PackageFile: PhyloProfile_1.99.5.tgz PackageFileSize: 1.498 MiB