Package: PhyloProfile Version: 1.99.5 Command: /Library/Frameworks/R.framework/Resources/bin/R CMD INSTALL PhyloProfile StartedAt: 2025-02-20 15:16:51 -0500 (Thu, 20 Feb 2025) EndedAt: 2025-02-20 15:17:01 -0500 (Thu, 20 Feb 2025) EllapsedTime: 10.1 seconds RetCode: 0 Status: OK