Package: PhosR Version: 1.17.0 Command: /home/biocbuild/bbs-3.21-bioc/R/bin/R CMD INSTALL PhosR StartedAt: 2025-02-20 15:27:26 -0500 (Thu, 20 Feb 2025) EndedAt: 2025-02-20 15:27:55 -0500 (Thu, 20 Feb 2025) EllapsedTime: 28.5 seconds RetCode: 0 Status: OK