Package: PhosR Version: 1.17.0 Command: /Library/Frameworks/R.framework/Resources/bin/R CMD build --keep-empty-dirs --no-resave-data PhosR StartedAt: 2025-02-20 17:14:42 -0500 (Thu, 20 Feb 2025) EndedAt: 2025-02-20 17:15:50 -0500 (Thu, 20 Feb 2025) EllapsedTime: 67.8 seconds RetCode: 0 Status: OK PackageFile: PhosR_1.17.0.tar.gz PackageFileSize: 7.97 MiB