Package: PhenoGeneRanker Version: 1.15.0 Command: /home/biocbuild/bbs-3.21-bioc/R/bin/R CMD check --install=check:PhenoGeneRanker.install-out.txt --library=/home/biocbuild/bbs-3.21-bioc/R/site-library --timings PhenoGeneRanker_1.15.0.tar.gz StartedAt: 2025-02-18 00:57:44 -0500 (Tue, 18 Feb 2025) EndedAt: 2025-02-18 01:05:36 -0500 (Tue, 18 Feb 2025) EllapsedTime: 471.8 seconds RetCode: 0 Status: OK CheckDir: PhenoGeneRanker.Rcheck Warnings: 0