Package: PhenoGeneRanker Version: 1.15.0 Command: rm -rf PhenoGeneRanker.buildbin-libdir && mkdir PhenoGeneRanker.buildbin-libdir && /Users/biocbuild/BBS/utils/build-universal.sh PhenoGeneRanker_1.15.0.tar.gz /Library/Frameworks/R.framework/Resources/bin/R PhenoGeneRanker.buildbin-libdir StartedAt: 2025-02-18 00:39:07 -0500 (Tue, 18 Feb 2025) EndedAt: 2025-02-18 00:39:20 -0500 (Tue, 18 Feb 2025) EllapsedTime: 12.7 seconds RetCode: 0 Status: OK PackageFile: PhenoGeneRanker_1.15.0.tgz PackageFileSize: 79.52 KiB