Package: PhenoGeneRanker Version: 1.15.0 Command: /Library/Frameworks/R.framework/Resources/bin/R CMD check --install=check:PhenoGeneRanker.install-out.txt --library=/Library/Frameworks/R.framework/Resources/library --no-vignettes --timings PhenoGeneRanker_1.15.0.tar.gz StartedAt: 2025-02-17 20:41:12 -0500 (Mon, 17 Feb 2025) EndedAt: 2025-02-17 20:41:51 -0500 (Mon, 17 Feb 2025) EllapsedTime: 38.4 seconds RetCode: 0 Status: OK CheckDir: PhenoGeneRanker.Rcheck Warnings: 0