Package: PhenStat Version: 2.43.0 Command: rm -rf PhenStat.buildbin-libdir && mkdir PhenStat.buildbin-libdir && /Users/biocbuild/BBS/utils/build-universal.sh PhenStat_2.43.0.tar.gz /Library/Frameworks/R.framework/Resources/bin/R PhenStat.buildbin-libdir StartedAt: 2025-02-20 00:46:34 -0500 (Thu, 20 Feb 2025) EndedAt: 2025-02-20 00:47:00 -0500 (Thu, 20 Feb 2025) EllapsedTime: 25.4 seconds RetCode: 0 Status: OK PackageFile: PhenStat_2.43.0.tgz PackageFileSize: 1.253 MiB