Package: PharmacoGx Version: 3.11.1 Command: /home/biocbuild/bbs-3.21-bioc/R/bin/R CMD check --install=check:PharmacoGx.install-out.txt --library=/home/biocbuild/bbs-3.21-bioc/R/site-library --timings PharmacoGx_3.11.1.tar.gz StartedAt: 2025-02-20 01:09:06 -0500 (Thu, 20 Feb 2025) EndedAt: 2025-02-20 01:15:29 -0500 (Thu, 20 Feb 2025) EllapsedTime: 382.6 seconds RetCode: 1 Status: ERROR CheckDir: PharmacoGx.Rcheck Warnings: NA