Package: PepsNMR Version: 1.25.0 Command: chmod a+r PepsNMR -R && E:\biocbuild\bbs-3.21-bioc\R\bin\R.exe CMD build --keep-empty-dirs --no-resave-data PepsNMR StartedAt: 2025-02-20 20:45:34 -0500 (Thu, 20 Feb 2025) EndedAt: 2025-02-20 20:51:25 -0500 (Thu, 20 Feb 2025) EllapsedTime: 350.6 seconds RetCode: 0 Status: OK PackageFile: PepsNMR_1.25.0.tar.gz PackageFileSize: 700 KiB