Package: PepsNMR Version: 1.25.0 Command: /Library/Frameworks/R.framework/Resources/bin/R CMD check --install=check:PepsNMR.install-out.txt --library=/Library/Frameworks/R.framework/Resources/library --no-vignettes --timings PepsNMR_1.25.0.tar.gz StartedAt: 2025-02-20 20:41:06 -0500 (Thu, 20 Feb 2025) EndedAt: 2025-02-20 20:44:20 -0500 (Thu, 20 Feb 2025) EllapsedTime: 194.3 seconds RetCode: 0 Status: OK CheckDir: PepsNMR.Rcheck Warnings: 0