Package: PepsNMR Version: 1.25.0 Command: /Library/Frameworks/R.framework/Resources/bin/R CMD build --keep-empty-dirs --no-resave-data PepsNMR StartedAt: 2025-02-21 17:13:31 -0500 (Fri, 21 Feb 2025) EndedAt: 2025-02-21 17:15:06 -0500 (Fri, 21 Feb 2025) EllapsedTime: 95.2 seconds RetCode: 0 Status: OK PackageFile: PepsNMR_1.25.0.tar.gz PackageFileSize: 1.266 MiB