Package: PepsNMR Version: 1.25.0 Command: rm -rf PepsNMR.buildbin-libdir && mkdir PepsNMR.buildbin-libdir && /Users/biocbuild/BBS/utils/build-universal.sh PepsNMR_1.25.0.tar.gz /Library/Frameworks/R.framework/Resources/bin/R PepsNMR.buildbin-libdir StartedAt: 2025-02-20 22:29:31 -0500 (Thu, 20 Feb 2025) EndedAt: 2025-02-20 22:29:35 -0500 (Thu, 20 Feb 2025) EllapsedTime: 4.1 seconds RetCode: 0 Status: OK PackageFile: PepsNMR_1.25.0.tgz PackageFileSize: 1.37 MiB