Package: PepSetTest Version: 1.1.0 Command: E:\biocbuild\bbs-3.21-bioc\R\bin\R.exe CMD INSTALL PepSetTest StartedAt: 2025-02-17 16:05:01 -0500 (Mon, 17 Feb 2025) EndedAt: 2025-02-17 16:05:13 -0500 (Mon, 17 Feb 2025) EllapsedTime: 11.8 seconds RetCode: 0 Status: OK