Package: PepSetTest Version: 1.1.0 Command: E:\biocbuild\bbs-3.21-bioc\R\bin\R.exe CMD check --no-multiarch --install=check:PepSetTest.install-out.txt --library=E:\biocbuild\bbs-3.21-bioc\R\library --no-vignettes --timings PepSetTest_1.1.0.tar.gz StartedAt: 2025-02-18 03:48:19 -0500 (Tue, 18 Feb 2025) EndedAt: 2025-02-18 03:49:19 -0500 (Tue, 18 Feb 2025) EllapsedTime: 59.8 seconds RetCode: 0 Status: OK CheckDir: PepSetTest.Rcheck Warnings: 0