Package: PepSetTest Version: 1.1.0 Command: chmod a+r PepSetTest -R && E:\biocbuild\bbs-3.21-bioc\R\bin\R.exe CMD build --keep-empty-dirs --no-resave-data PepSetTest StartedAt: 2025-02-17 20:34:00 -0500 (Mon, 17 Feb 2025) EndedAt: 2025-02-17 20:34:26 -0500 (Mon, 17 Feb 2025) EllapsedTime: 26.0 seconds RetCode: 0 Status: OK PackageFile: PepSetTest_1.1.0.tar.gz PackageFileSize: 248.6 KiB