Package: PepSetTest Version: 1.1.0 Command: /Library/Frameworks/R.framework/Resources/bin/R CMD INSTALL PepSetTest StartedAt: 2025-02-17 15:10:09 -0500 (Mon, 17 Feb 2025) EndedAt: 2025-02-17 15:10:13 -0500 (Mon, 17 Feb 2025) EllapsedTime: 4.2 seconds RetCode: 0 Status: OK