Package: PepSetTest Version: 1.1.0 Command: rm -rf PepSetTest.buildbin-libdir && mkdir PepSetTest.buildbin-libdir && /Users/biocbuild/BBS/utils/build-universal.sh PepSetTest_1.1.0.tar.gz /Library/Frameworks/R.framework/Resources/bin/R PepSetTest.buildbin-libdir StartedAt: 2025-02-18 00:38:55 -0500 (Tue, 18 Feb 2025) EndedAt: 2025-02-18 00:39:00 -0500 (Tue, 18 Feb 2025) EllapsedTime: 4.6 seconds RetCode: 0 Status: OK PackageFile: PepSetTest_1.1.0.tgz PackageFileSize: 304.1 KiB