Package: PepSetTest Version: 1.1.0 Command: rm -rf PepSetTest.buildbin-libdir && mkdir PepSetTest.buildbin-libdir && /Users/biocbuild/BBS/utils/build-universal.sh PepSetTest_1.1.0.tar.gz /Library/Frameworks/R.framework/Resources/bin/R PepSetTest.buildbin-libdir StartedAt: 2025-02-17 22:28:03 -0500 (Mon, 17 Feb 2025) EndedAt: 2025-02-17 22:28:05 -0500 (Mon, 17 Feb 2025) EllapsedTime: 2.0 seconds RetCode: 0 Status: OK PackageFile: PepSetTest_1.1.0.tgz PackageFileSize: 305.1 KiB