Package: Pedixplorer Version: 1.3.1 Command: chmod a+r Pedixplorer -R && E:\biocbuild\bbs-3.21-bioc\R\bin\R.exe CMD build --keep-empty-dirs --no-resave-data Pedixplorer StartedAt: 2025-02-20 20:44:50 -0500 (Thu, 20 Feb 2025) EndedAt: 2025-02-20 20:47:46 -0500 (Thu, 20 Feb 2025) EllapsedTime: 175.7 seconds RetCode: 0 Status: OK PackageFile: Pedixplorer_1.3.1.tar.gz PackageFileSize: 3.357 MiB