Package: Pedixplorer Version: 1.3.1 Command: /Library/Frameworks/R.framework/Resources/bin/R CMD build --keep-empty-dirs --no-resave-data Pedixplorer StartedAt: 2025-02-20 17:45:57 -0500 (Thu, 20 Feb 2025) EndedAt: 2025-02-20 17:47:26 -0500 (Thu, 20 Feb 2025) EllapsedTime: 89.2 seconds RetCode: 0 Status: OK PackageFile: Pedixplorer_1.3.1.tar.gz PackageFileSize: 4.262 MiB