Package: Pedixplorer Version: 1.3.1 Maintainer: Louis Le Nezet MaintainerEmail: louislenezet at gmail.com git_url: https://git.bioconductor.org/packages/Pedixplorer git_branch: devel git_last_commit: 95afb89 git_last_commit_date: 2025-02-18 12:36:10 -0500 (Tue, 18 Feb 2025)