Package: PeacoQC Version: 1.17.0 Command: rm -rf PeacoQC.buildbin-libdir && mkdir PeacoQC.buildbin-libdir && /Users/biocbuild/BBS/utils/build-universal.sh PeacoQC_1.17.0.tar.gz /Library/Frameworks/R.framework/Resources/bin/R PeacoQC.buildbin-libdir StartedAt: 2025-02-20 00:46:17 -0500 (Thu, 20 Feb 2025) EndedAt: 2025-02-20 00:46:39 -0500 (Thu, 20 Feb 2025) EllapsedTime: 22.1 seconds RetCode: 0 Status: OK PackageFile: PeacoQC_1.17.0.tgz PackageFileSize: 1.599 MiB