Package: PeacoQC Version: 1.17.0 Command: /Library/Frameworks/R.framework/Resources/bin/R CMD build --keep-empty-dirs --no-resave-data PeacoQC StartedAt: 2025-02-19 17:14:27 -0500 (Wed, 19 Feb 2025) EndedAt: 2025-02-19 17:14:48 -0500 (Wed, 19 Feb 2025) EllapsedTime: 21.2 seconds RetCode: 0 Status: OK PackageFile: PeacoQC_1.17.0.tar.gz PackageFileSize: 1.521 MiB