Package: PathoStat Version: 1.33.0 Command: /home/biocbuild/bbs-3.21-bioc/R/bin/R CMD INSTALL PathoStat StartedAt: 2025-02-17 15:20:29 -0500 (Mon, 17 Feb 2025) EndedAt: 2025-02-17 15:21:02 -0500 (Mon, 17 Feb 2025) EllapsedTime: 33.1 seconds RetCode: 0 Status: OK