Package: PathoStat Version: 1.33.0 Command: /home/biocbuild/bbs-3.21-bioc/R/bin/R CMD build --keep-empty-dirs --no-resave-data PathoStat StartedAt: 2025-02-17 18:30:39 -0500 (Mon, 17 Feb 2025) EndedAt: 2025-02-17 18:31:15 -0500 (Mon, 17 Feb 2025) EllapsedTime: 36.0 seconds RetCode: 0 Status: OK PackageFile: PathoStat_1.33.0.tar.gz PackageFileSize: 947.9 KiB