Package: PathoStat Version: 1.33.0 Command: /Library/Frameworks/R.framework/Resources/bin/R CMD INSTALL PathoStat StartedAt: 2025-02-17 15:35:50 -0500 (Mon, 17 Feb 2025) EndedAt: 2025-02-17 15:36:38 -0500 (Mon, 17 Feb 2025) EllapsedTime: 47.4 seconds RetCode: 0 Status: OK