Package: PathoStat Version: 1.33.0 Command: /Library/Frameworks/R.framework/Resources/bin/R CMD check --install=check:PathoStat.install-out.txt --library=/Library/Frameworks/R.framework/Resources/library --no-vignettes --timings PathoStat_1.33.0.tar.gz StartedAt: 2025-02-17 20:38:31 -0500 (Mon, 17 Feb 2025) EndedAt: 2025-02-17 20:40:14 -0500 (Mon, 17 Feb 2025) EllapsedTime: 103.1 seconds RetCode: 0 Status: OK CheckDir: PathoStat.Rcheck Warnings: 0