Package: PathNet Version: 1.47.0 Command: E:\biocbuild\bbs-3.21-bioc\R\bin\R.exe CMD INSTALL PathNet StartedAt: 2025-02-20 15:19:57 -0500 (Thu, 20 Feb 2025) EndedAt: 2025-02-20 15:20:07 -0500 (Thu, 20 Feb 2025) EllapsedTime: 9.8 seconds RetCode: 0 Status: OK