Package: PathNet Version: 1.47.0 Command: /home/biocbuild/bbs-3.21-bioc/R/bin/R CMD check --install=check:PathNet.install-out.txt --library=/home/biocbuild/bbs-3.21-bioc/R/site-library --timings PathNet_1.47.0.tar.gz StartedAt: 2025-02-21 00:32:43 -0500 (Fri, 21 Feb 2025) EndedAt: 2025-02-21 00:34:56 -0500 (Fri, 21 Feb 2025) EllapsedTime: 133.3 seconds RetCode: 0 Status: OK CheckDir: PathNet.Rcheck Warnings: 0