Package: PathNet Version: 1.47.0 Command: /Library/Frameworks/R.framework/Resources/bin/R CMD check --install=check:PathNet.install-out.txt --library=/Library/Frameworks/R.framework/Resources/library --no-vignettes --timings PathNet_1.47.0.tar.gz StartedAt: 2025-02-20 22:16:29 -0500 (Thu, 20 Feb 2025) EndedAt: 2025-02-20 22:17:48 -0500 (Thu, 20 Feb 2025) EllapsedTime: 79.0 seconds RetCode: 0 Status: OK CheckDir: PathNet.Rcheck Warnings: 0