Package: PathNet Version: 1.47.0 Command: rm -rf PathNet.buildbin-libdir && mkdir PathNet.buildbin-libdir && /Users/biocbuild/BBS/utils/build-universal.sh PathNet_1.47.0.tar.gz /Library/Frameworks/R.framework/Resources/bin/R PathNet.buildbin-libdir StartedAt: 2025-02-21 00:44:51 -0500 (Fri, 21 Feb 2025) EndedAt: 2025-02-21 00:44:56 -0500 (Fri, 21 Feb 2025) EllapsedTime: 4.7 seconds RetCode: 0 Status: OK PackageFile: PathNet_1.47.0.tgz PackageFileSize: 329.3 KiB