Package: PathNet Version: 1.47.0 Command: /home/biocbuild/R/R/bin/R CMD INSTALL PathNet StartedAt: 2025-01-29 19:32:42 -0000 (Wed, 29 Jan 2025) EndedAt: 2025-01-29 19:32:54 -0000 (Wed, 29 Jan 2025) EllapsedTime: 12.6 seconds RetCode: 0 Status: OK