Package: PathNet Version: 1.47.0 Command: /Library/Frameworks/R.framework/Resources/bin/R CMD INSTALL PathNet StartedAt: 2025-02-20 15:02:17 -0500 (Thu, 20 Feb 2025) EndedAt: 2025-02-20 15:02:22 -0500 (Thu, 20 Feb 2025) EllapsedTime: 5.5 seconds RetCode: 0 Status: OK