Package: PathNet Version: 1.47.0 Command: rm -rf PathNet.buildbin-libdir && mkdir PathNet.buildbin-libdir && /Users/biocbuild/BBS/utils/build-universal.sh PathNet_1.47.0.tar.gz /Library/Frameworks/R.framework/Resources/bin/R PathNet.buildbin-libdir StartedAt: 2025-02-20 22:29:20 -0500 (Thu, 20 Feb 2025) EndedAt: 2025-02-20 22:29:22 -0500 (Thu, 20 Feb 2025) EllapsedTime: 2.1 seconds RetCode: 0 Status: OK PackageFile: PathNet_1.47.0.tgz PackageFileSize: 329.2 KiB