Package: Path2PPI Version: 1.37.0 Command: rm -rf Path2PPI.buildbin-libdir && mkdir Path2PPI.buildbin-libdir && /Users/biocbuild/BBS/utils/build-universal.sh Path2PPI_1.37.0.tar.gz /Library/Frameworks/R.framework/Resources/bin/R Path2PPI.buildbin-libdir StartedAt: 2025-02-19 00:38:56 -0500 (Wed, 19 Feb 2025) EndedAt: 2025-02-19 00:39:05 -0500 (Wed, 19 Feb 2025) EllapsedTime: 9.4 seconds RetCode: 0 Status: OK PackageFile: Path2PPI_1.37.0.tgz PackageFileSize: 1.337 MiB