Package: PanViz Version: 1.9.1 Command: /home/biocbuild/bbs-3.21-bioc/R/bin/R CMD INSTALL PanViz StartedAt: 2025-02-19 15:09:05 -0500 (Wed, 19 Feb 2025) EndedAt: 2025-02-19 15:09:09 -0500 (Wed, 19 Feb 2025) EllapsedTime: 3.7 seconds RetCode: 0 Status: OK