Package: PWMEnrich Version: 4.43.0 Command: E:\biocbuild\bbs-3.21-bioc\R\bin\R.exe CMD check --no-multiarch --install=check:PWMEnrich.install-out.txt --library=E:\biocbuild\bbs-3.21-bioc\R\library --no-vignettes --timings PWMEnrich_4.43.0.tar.gz StartedAt: 2025-02-21 04:38:44 -0500 (Fri, 21 Feb 2025) EndedAt: 2025-02-21 04:40:49 -0500 (Fri, 21 Feb 2025) EllapsedTime: 125.7 seconds RetCode: 0 Status: OK CheckDir: PWMEnrich.Rcheck Warnings: 0