Package: PWMEnrich Version: 4.43.0 Command: /Library/Frameworks/R.framework/Resources/bin/R CMD check --install=check:PWMEnrich.install-out.txt --library=/Library/Frameworks/R.framework/Resources/library --no-vignettes --timings PWMEnrich_4.43.0.tar.gz StartedAt: 2025-02-20 22:32:08 -0500 (Thu, 20 Feb 2025) EndedAt: 2025-02-20 22:34:05 -0500 (Thu, 20 Feb 2025) EllapsedTime: 117.1 seconds RetCode: 0 Status: OK CheckDir: PWMEnrich.Rcheck Warnings: 0