Package: PWMEnrich Version: 4.43.0 Command: /Library/Frameworks/R.framework/Resources/bin/R CMD INSTALL PWMEnrich StartedAt: 2025-02-20 15:05:07 -0500 (Thu, 20 Feb 2025) EndedAt: 2025-02-20 15:05:12 -0500 (Thu, 20 Feb 2025) EllapsedTime: 5.6 seconds RetCode: 0 Status: OK