Package: PSMatch Version: 1.11.0 Command: /Library/Frameworks/R.framework/Resources/bin/R CMD INSTALL PSMatch StartedAt: 2025-02-20 15:26:54 -0500 (Thu, 20 Feb 2025) EndedAt: 2025-02-20 15:27:31 -0500 (Thu, 20 Feb 2025) EllapsedTime: 37.2 seconds RetCode: 0 Status: OK