Package: PSMatch Version: 1.11.0 Command: /Library/Frameworks/R.framework/Resources/bin/R CMD build --keep-empty-dirs --no-resave-data PSMatch StartedAt: 2025-02-20 17:51:54 -0500 (Thu, 20 Feb 2025) EndedAt: 2025-02-20 17:53:31 -0500 (Thu, 20 Feb 2025) EllapsedTime: 97.0 seconds RetCode: 0 Status: OK PackageFile: PSMatch_1.11.0.tar.gz PackageFileSize: 1.433 MiB